BEGIN:VCALENDAR
PRODID:-//Kentico Software//NONSGML Kentico CMS//EN
VERSION:2.0
BEGIN:VEVENT
UID:b919b4da-8d6f-4287-ac0c-316f981bd13e@atlantis.cz
DTSTAMP:20260419T114957Z
DTSTART:20241016T140000Z
DTEND:20241016T190000Z
LOCATION:Curlingová hala Roztyly, Komárkova 12, 148 00 Praha 11-Chodov
DESCRIPTION:\nVážení obchodní přátelé,\ndovolujeme si vás srdečně pozvat na "Curling s atlantisem", který se uskuteční 16. října 2024 od 16:00 hodin v Curlingové hale Roztyly.\n Časový harmonogram:15:30 - 15:45  Registrace účastníků\n15:45 - 16:00  Seznámení s pravidly hry\n16:00 - 18:00  Turnaj na všech 4 drahách s asistencí profesionálů\n18:00 - 18:15  Vyhlášení vítězů\n18:15 - 21:00  Raut a volná zábava\n \nDo prostoru hrací plochy je dovolen vstup výhradně v čisté sportovní obuvi (NUTNÉ - přinést vlastní čisté boty na přezutí).\nJe zakázán vstup s kovovými doplňky a vysokými podpatky; doporučujeme teplé sportovní oblečení. Teplota v hale se pohybuje kolem 6-9 stupňů.\n\n\nBudeme se na Vás těšit!\n\nTým networking\n \n\nCurlingová hala Roztyly, Komárkova 12, 148 00 Praha 11-Chodov
SUMMARY:Curling s atlantisem
PRIORITY:3
BEGIN:VALARM
TRIGGER:P0DT0H15M
ACTION:DISPLAY
DESCRIPTION:Reminder
END:VALARM
END:VEVENT
END:VCALENDAR
