BEGIN:VCALENDAR
PRODID:-//Kentico Software//NONSGML Kentico CMS//EN
VERSION:2.0
BEGIN:VEVENT
UID:cc4dc7fe-f5cb-492a-867a-fe18fc8e6267@atlantis.cz
DTSTAMP:20260419T115000Z
DTSTART:20190320T113000Z
DTEND:20190320T160000Z
LOCATION:Sídlo společnosti atlantis telecom, Štěrboholská 1427/55, Praha 10
DESCRIPTION:\nProgram:12:30 - 13:00    Registrace účastníků\n13:00 - 13:10    Zahájení a úvod\n13:10 - 14:00    HPE / Aruba | "WiFi 6" (IEEE 802.11ax, WPA 3, nová generace přístupových bodů Aruba AP)\n14:00 - 14:30    R&M | modulární řešení nejen pro datová centra\n14:30 - 14:45    Přestávka na občerstvení\n14:45 - 15:15    Mitel | představení Mitelu\n15:15 - 15:45    Clavister NGFW | inovativní koncepce řešení síťové bezpečnosti \n15:45 - 16:00    Přestávka na občerstvení\n16:00 - 16:30    RiverbedNPM/APM | technologické novinky\n16:30 - 17:00    Diskuze a ukončení\n\n\nTěšíme se na setkání s Vámi!\n\nNetworking tým atlantis\n\nSídlo společnosti atlantis telecom, Štěrboholská 1427/55, Praha 10
SUMMARY:Roadshow Praha
PRIORITY:3
BEGIN:VALARM
TRIGGER:P0DT0H15M
ACTION:DISPLAY
DESCRIPTION:Reminder
END:VALARM
END:VEVENT
END:VCALENDAR
