BEGIN:VCALENDAR
PRODID:-//Kentico Software//NONSGML Kentico CMS//EN
VERSION:2.0
BEGIN:VEVENT
UID:a31fdd45-bd65-4544-8fc3-e451d556d46d@atlantis.cz
DTSTAMP:20260419T114957Z
DTSTART:20170308T083000Z
DTEND:20170308T100000Z
LOCATION:Sídlo společnosti atlantis telecom spol. s r.o., Štěrboholská 1427/55, Praha 10
DESCRIPTION:\nVážení partněři,\n\ndne 8. března 2017 se uskutečnila "Jarní snídaně s Polycom", kde bylo možné získat přehled o nových funkcionalitách klíčových produktů Polycom a zároveň jste si sami mohli jejich přínos z uživatelského pohledu u vybraných zařízení posoudit během živých ukázek jejich typických scénářů užití.\nProgram:Polycom® RealPresence Debut™ – kompaktní all-in-one videokonferenční systém pro malé skupinyPolycom® EagleEye™ ProducerPolycom® Concierge – správa vašich video hovorů přes aplikace v mobilním telefonuPolycom® Easy Schedule™ App – plánování video hovorů z prostředí MS OutlookPolycom® One Touch Dial App – integrace kalendářových služeb „click to call“Polycom® RealConnect™ – integrace Skype pro firmy, plánování a volání, sdílení dokumentůPolycom® RealPresence Trio™ – hlasové i video volání v prostředí SIP a Skype pro firmy pro malé skupinyPolycom® RealPresence Clariti™ – infrastruktura jako software balíčekPolycom® RealPresence® Media Suite – nahrávání a streaming  \n \n\nSídlo společnosti atlantis telecom spol. s r.o., Štěrboholská 1427/55, Praha 10
SUMMARY:Jarní snídaně s Polycom
PRIORITY:3
BEGIN:VALARM
TRIGGER:P0DT0H15M
ACTION:DISPLAY
DESCRIPTION:Reminder
END:VALARM
END:VEVENT
END:VCALENDAR
